BEGIN:VCALENDAR
VERSION:2.0
PRODID:-//GSC Colibri Freiburg e.V. - ECPv6.15.20//NONSGML v1.0//EN
CALSCALE:GREGORIAN
METHOD:PUBLISH
X-ORIGINAL-URL:https://gsccolibri.de
X-WR-CALDESC:Veranstaltungen für GSC Colibri Freiburg e.V.
REFRESH-INTERVAL;VALUE=DURATION:PT1H
X-Robots-Tag:noindex
X-PUBLISHED-TTL:PT1H
BEGIN:VTIMEZONE
TZID:Europe/Berlin
BEGIN:DAYLIGHT
TZOFFSETFROM:+0100
TZOFFSETTO:+0200
TZNAME:CEST
DTSTART:20220327T010000
END:DAYLIGHT
BEGIN:STANDARD
TZOFFSETFROM:+0200
TZOFFSETTO:+0100
TZNAME:CET
DTSTART:20221030T010000
END:STANDARD
BEGIN:DAYLIGHT
TZOFFSETFROM:+0100
TZOFFSETTO:+0200
TZNAME:CEST
DTSTART:20230326T010000
END:DAYLIGHT
BEGIN:STANDARD
TZOFFSETFROM:+0200
TZOFFSETTO:+0100
TZNAME:CET
DTSTART:20231029T010000
END:STANDARD
BEGIN:DAYLIGHT
TZOFFSETFROM:+0100
TZOFFSETTO:+0200
TZNAME:CEST
DTSTART:20240331T010000
END:DAYLIGHT
BEGIN:STANDARD
TZOFFSETFROM:+0200
TZOFFSETTO:+0100
TZNAME:CET
DTSTART:20241027T010000
END:STANDARD
END:VTIMEZONE
BEGIN:VEVENT
DTSTART;TZID=Europe/Berlin:20230326T090000
DTEND;TZID=Europe/Berlin:20230326T170000
DTSTAMP:20260425T153331
CREATED:20230202T080025Z
LAST-MODIFIED:20230203T085907Z
UID:11144-1679821200-1679850000@gsccolibri.de
SUMMARY:Selbstpackerlehrgang
DESCRIPTION:Damian organisiert einen Selbstpackerlehrgang mit Daniel Heininger\, Ausbilder vom DHV. Der Kurs wird am 26.3.2023 in der Sporthalle der Wentzingerschule in Freiburg stattfinden.\n\nDer Lehrgang ist ausgebucht! Neue Anmeldungen kommen auf die Warteliste. \n\nDer Kurs kann stattfinden\, wenn sich wenigstens 15 Personen anmelden. Die Teilnahme wird vom DHV für seine Mitglieder bezuschusst und kostet dann 20€ (sonst 35€). \nDie Anmeldung findet ihr weiter unten.Folgende Systeme können unterrichtet werden: \n\nRundkappen\nKreuzkappen\nKreuzrundkappen\nNova Pentagon\nDreieckkappen wie X-Dreamfly X-Two\n\nRogallosysteme werden nicht in diesem Kurs gepackt. In diesem Kurs erhhält man die Berechtigung die eigene Rettung zu packen. Das Packen fremder Rettungen ist explizit nicht Teil der hier erworbenen Berechtigung! \nFür Fragen wendet euch direkt an Damian über SLACK oder schreibt Janina an kommunikation@gsccolibri.de
URL:https://gsccolibri.de/event/selbstpackerlehrgang/
LOCATION:Wentzingerschule – Sporthalle\, Falkenbergerstraße 21\, Freiburg
CATEGORIES:colibri
ATTACH;FMTTYPE=image/jpeg:https://gsccolibri.de/wp-content/uploads/2017/05/Packtag1700004.jpg
ORGANIZER;CN="Janina Radny":MAILTO:oeffentlichkeit@gsccolibri.de
END:VEVENT
END:VCALENDAR